Workbook

Sheet Como usar
A1: Timesheet do escritório de advocacia — SIJUR (sijur.com.br/planilhas-para-advogados/)
A3: 1. Uma linha por atividade: data, advogado, cliente, processo, tipo de atividade, hora de início e hora de fim.
A4: 2. "Horas" e "Valor" se calculam sozinhos. Digite as horas como 09:30 e 11:15. Atividade que vira a meia-noite: lance em duas linhas.
A5: 3. Marque "Faturável" como Sim ou Não. O valor só é calculado para atividade faturável com valor da hora preenchido.
A6: 4. Na aba "Resumo", escreva o nome de cada advogado e de cada cliente nas colunas A e E: as horas e os valores aparecem ao lado.
A7: 5. A linha 2 é um exemplo: apague ou sobrescreva.

Sheet Atividades
A1: Data | B1: Advogado | C1: Cliente | D1: Processo (CNJ) | E1: Atividade | F1: Descrição | G1: Início | H1: Fim | I1: Horas | J1: Faturável | K1: Valor da hora | L1: Valor
A2: 46303 | B2: Advogada A | C2: Cliente de exemplo | D2: 5001234-93.2025.8.21.0001 | E2: Petição | F2: Réplica | G2: 0.39583333 | H2: 0.46875 | I2: =IF(OR(G2="",H2=""),"",ROUND((H2-G2)*24,2)) | J2: Sim | K2: 350 | L2: =IF(AND(J2="Sim",I2<>"",K2<>""),ROUND(I2*K2,2),"")
I3: =IF(OR(G3="",H3=""),"",ROUND((H3-G3)*24,2)) | L3: =IF(AND(J3="Sim",I3<>"",K3<>""),ROUND(I3*K3,2),"")
I4: =IF(OR(G4="",H4=""),"",ROUND((H4-G4)*24,2)) | L4: =IF(AND(J4="Sim",I4<>"",K4<>""),ROUND(I4*K4,2),"")
I5: =IF(OR(G5="",H5=""),"",ROUND((H5-G5)*24,2)) | L5: =IF(AND(J5="Sim",I5<>"",K5<>""),ROUND(I5*K5,2),"")
I6: =IF(OR(G6="",H6=""),"",ROUND((H6-G6)*24,2)) | L6: =IF(AND(J6="Sim",I6<>"",K6<>""),ROUND(I6*K6,2),"")
I7: =IF(OR(G7="",H7=""),"",ROUND((H7-G7)*24,2)) | L7: =IF(AND(J7="Sim",I7<>"",K7<>""),ROUND(I7*K7,2),"")
I8: =IF(OR(G8="",H8=""),"",ROUND((H8-G8)*24,2)) | L8: =IF(AND(J8="Sim",I8<>"",K8<>""),ROUND(I8*K8,2),"")
I9: =IF(OR(G9="",H9=""),"",ROUND((H9-G9)*24,2)) | L9: =IF(AND(J9="Sim",I9<>"",K9<>""),ROUND(I9*K9,2),"")
I10: =IF(OR(G10="",H10=""),"",ROUND((H10-G10)*24,2)) | L10: =IF(AND(J10="Sim",I10<>"",K10<>""),ROUND(I10*K10,2),"")
I11: =IF(OR(G11="",H11=""),"",ROUND((H11-G11)*24,2)) | L11: =IF(AND(J11="Sim",I11<>"",K11<>""),ROUND(I11*K11,2),"")
I12: =IF(OR(G12="",H12=""),"",ROUND((H12-G12)*24,2)) | L12: =IF(AND(J12="Sim",I12<>"",K12<>""),ROUND(I12*K12,2),"")
I13: =IF(OR(G13="",H13=""),"",ROUND((H13-G13)*24,2)) | L13: =IF(AND(J13="Sim",I13<>"",K13<>""),ROUND(I13*K13,2),"")
I14: =IF(OR(G14="",H14=""),"",ROUND((H14-G14)*24,2)) | L14: =IF(AND(J14="Sim",I14<>"",K14<>""),ROUND(I14*K14,2),"")
... I301: =IF(OR(G301="",H301=""),"",ROUND((H301-G301)*24,2)) | L301: =IF(AND(J301="Sim",I301<>"",K301<>""),ROUND(I301*K301,2),"")

Sheet Resumo
A1: Advogado | B1: Horas | C1: Horas faturáveis | D1: Valor faturável | E1: Cliente | F1: Horas | G1: Valor faturável
A2: Advogada A | B2: =IF(A2="","",SUMIFS(Atividades!$I$2:$I$301,Atividades!$B$2:$B$301,A2)) | C2: =IF(A2="","",SUMIFS(Atividades!$I$2:$I$301,Atividades!$B$2:$B$301,A2,Atividades!$J$2:$J$301,"Sim")) | D2: =IF(A2="","",SUMIFS(Atividades!$L$2:$L$301,Atividades!$B$2:$B$301,A2)) | E2: Cliente de exemplo | F2: =IF(E2="","",SUMIFS(Atividades!$I$2:$I$301,Atividades!$C$2:$C$301,E2)) | G2: =IF(E2="","",SUMIFS(Atividades!$L$2:$L$301,Atividades!$C$2:$C$301,E2))
B3: =IF(A3="","",SUMIFS(Atividades!$I$2:$I$301,Atividades!$B$2:$B$301,A3)) | C3: =IF(A3="","",SUMIFS(Atividades!$I$2:$I$301,Atividades!$B$2:$B$301,A3,Atividades!$J$2:$J$301,"Sim")) | D3: =IF(A3="","",SUMIFS(Atividades!$L$2:$L$301,Atividades!$B$2:$B$301,A3)) | F3: =IF(E3="","",SUMIFS(Atividades!$I$2:$I$301,Atividades!$C$2:$C$301,E3)) | G3: =IF(E3="","",SUMIFS(Atividades!$L$2:$L$301,Atividades!$C$2:$C$301,E3))
B4: =IF(A4="","",SUMIFS(Atividades!$I$2:$I$301,Atividades!$B$2:$B$301,A4)) | C4: =IF(A4="","",SUMIFS(Atividades!$I$2:$I$301,Atividades!$B$2:$B$301,A4,Atividades!$J$2:$J$301,"Sim")) | D4: =IF(A4="","",SUMIFS(Atividades!$L$2:$L$301,Atividades!$B$2:$B$301,A4)) | F4: =IF(E4="","",SUMIFS(Atividades!$I$2:$I$301,Atividades!$C$2:$C$301,E4)) | G4: =IF(E4="","",SUMIFS(Atividades!$L$2:$L$301,Atividades!$C$2:$C$301,E4))
B5: =IF(A5="","",SUMIFS(Atividades!$I$2:$I$301,Atividades!$B$2:$B$301,A5)) | C5: =IF(A5="","",SUMIFS(Atividades!$I$2:$I$301,Atividades!$B$2:$B$301,A5,Atividades!$J$2:$J$301,"Sim")) | D5: =IF(A5="","",SUMIFS(Atividades!$L$2:$L$301,Atividades!$B$2:$B$301,A5)) | F5: =IF(E5="","",SUMIFS(Atividades!$I$2:$I$301,Atividades!$C$2:$C$301,E5)) | G5: =IF(E5="","",SUMIFS(Atividades!$L$2:$L$301,Atividades!$C$2:$C$301,E5))
B6: =IF(A6="","",SUMIFS(Atividades!$I$2:$I$301,Atividades!$B$2:$B$301,A6)) | C6: =IF(A6="","",SUMIFS(Atividades!$I$2:$I$301,Atividades!$B$2:$B$301,A6,Atividades!$J$2:$J$301,"Sim")) | D6: =IF(A6="","",SUMIFS(Atividades!$L$2:$L$301,Atividades!$B$2:$B$301,A6)) | F6: =IF(E6="","",SUMIFS(Atividades!$I$2:$I$301,Atividades!$C$2:$C$301,E6)) | G6: =IF(E6="","",SUMIFS(Atividades!$L$2:$L$301,Atividades!$C$2:$C$301,E6))
B7: =IF(A7="","",SUMIFS(Atividades!$I$2:$I$301,Atividades!$B$2:$B$301,A7)) | C7: =IF(A7="","",SUMIFS(Atividades!$I$2:$I$301,Atividades!$B$2:$B$301,A7,Atividades!$J$2:$J$301,"Sim")) | D7: =IF(A7="","",SUMIFS(Atividades!$L$2:$L$301,Atividades!$B$2:$B$301,A7)) | F7: =IF(E7="","",SUMIFS(Atividades!$I$2:$I$301,Atividades!$C$2:$C$301,E7)) | G7: =IF(E7="","",SUMIFS(Atividades!$L$2:$L$301,Atividades!$C$2:$C$301,E7))
B8: =IF(A8="","",SUMIFS(Atividades!$I$2:$I$301,Atividades!$B$2:$B$301,A8)) | C8: =IF(A8="","",SUMIFS(Atividades!$I$2:$I$301,Atividades!$B$2:$B$301,A8,Atividades!$J$2:$J$301,"Sim")) | D8: =IF(A8="","",SUMIFS(Atividades!$L$2:$L$301,Atividades!$B$2:$B$301,A8)) | F8: =IF(E8="","",SUMIFS(Atividades!$I$2:$I$301,Atividades!$C$2:$C$301,E8)) | G8: =IF(E8="","",SUMIFS(Atividades!$L$2:$L$301,Atividades!$C$2:$C$301,E8))
B9: =IF(A9="","",SUMIFS(Atividades!$I$2:$I$301,Atividades!$B$2:$B$301,A9)) | C9: =IF(A9="","",SUMIFS(Atividades!$I$2:$I$301,Atividades!$B$2:$B$301,A9,Atividades!$J$2:$J$301,"Sim")) | D9: =IF(A9="","",SUMIFS(Atividades!$L$2:$L$301,Atividades!$B$2:$B$301,A9)) | F9: =IF(E9="","",SUMIFS(Atividades!$I$2:$I$301,Atividades!$C$2:$C$301,E9)) | G9: =IF(E9="","",SUMIFS(Atividades!$L$2:$L$301,Atividades!$C$2:$C$301,E9))
B10: =IF(A10="","",SUMIFS(Atividades!$I$2:$I$301,Atividades!$B$2:$B$301,A10)) | C10: =IF(A10="","",SUMIFS(Atividades!$I$2:$I$301,Atividades!$B$2:$B$301,A10,Atividades!$J$2:$J$301,"Sim")) | D10: =IF(A10="","",SUMIFS(Atividades!$L$2:$L$301,Atividades!$B$2:$B$301,A10)) | F10: =IF(E10="","",SUMIFS(Atividades!$I$2:$I$301,Atividades!$C$2:$C$301,E10)) | G10: =IF(E10="","",SUMIFS(Atividades!$L$2:$L$301,Atividades!$C$2:$C$301,E10))
B11: =IF(A11="","",SUMIFS(Atividades!$I$2:$I$301,Atividades!$B$2:$B$301,A11)) | C11: =IF(A11="","",SUMIFS(Atividades!$I$2:$I$301,Atividades!$B$2:$B$301,A11,Atividades!$J$2:$J$301,"Sim")) | D11: =IF(A11="","",SUMIFS(Atividades!$L$2:$L$301,Atividades!$B$2:$B$301,A11)) | F11: =IF(E11="","",SUMIFS(Atividades!$I$2:$I$301,Atividades!$C$2:$C$301,E11)) | G11: =IF(E11="","",SUMIFS(Atividades!$L$2:$L$301,Atividades!$C$2:$C$301,E11))
B12: =IF(A12="","",SUMIFS(Atividades!$I$2:$I$301,Atividades!$B$2:$B$301,A12)) | C12: =IF(A12="","",SUMIFS(Atividades!$I$2:$I$301,Atividades!$B$2:$B$301,A12,Atividades!$J$2:$J$301,"Sim")) | D12: =IF(A12="","",SUMIFS(Atividades!$L$2:$L$301,Atividades!$B$2:$B$301,A12)) | F12: =IF(E12="","",SUMIFS(Atividades!$I$2:$I$301,Atividades!$C$2:$C$301,E12)) | G12: =IF(E12="","",SUMIFS(Atividades!$L$2:$L$301,Atividades!$C$2:$C$301,E12))
B13: =IF(A13="","",SUMIFS(Atividades!$I$2:$I$301,Atividades!$B$2:$B$301,A13)) | C13: =IF(A13="","",SUMIFS(Atividades!$I$2:$I$301,Atividades!$B$2:$B$301,A13,Atividades!$J$2:$J$301,"Sim")) | D13: =IF(A13="","",SUMIFS(Atividades!$L$2:$L$301,Atividades!$B$2:$B$301,A13)) | F13: =IF(E13="","",SUMIFS(Atividades!$I$2:$I$301,Atividades!$C$2:$C$301,E13)) | G13: =IF(E13="","",SUMIFS(Atividades!$L$2:$L$301,Atividades!$C$2:$C$301,E13))
B14: =IF(A14="","",SUMIFS(Atividades!$I$2:$I$301,Atividades!$B$2:$B$301,A14)) | C14: =IF(A14="","",SUMIFS(Atividades!$I$2:$I$301,Atividades!$B$2:$B$301,A14,Atividades!$J$2:$J$301,"Sim")) | D14: =IF(A14="","",SUMIFS(Atividades!$L$2:$L$301,Atividades!$B$2:$B$301,A14)) | F14: =IF(E14="","",SUMIFS(Atividades!$I$2:$I$301,Atividades!$C$2:$C$301,E14)) | G14: =IF(E14="","",SUMIFS(Atividades!$L$2:$L$301,Atividades!$C$2:$C$301,E14))
... B31: =IF(A31="","",SUMIFS(Atividades!$I$2:$I$301,Atividades!$B$2:$B$301,A31)) | C31: =IF(A31="","",SUMIFS(Atividades!$I$2:$I$301,Atividades!$B$2:$B$301,A31,Atividades!$J$2:$J$301,"Sim")) | D31: =IF(A31="","",SUMIFS(Atividades!$L$2:$L$301,Atividades!$B$2:$B$301,A31)) | F31: =IF(E31="","",SUMIFS(Atividades!$I$2:$I$301,Atividades!$C$2:$C$301,E31)) | G31: =IF(E31="","",SUMIFS(Atividades!$L$2:$L$301,Atividades!$C$2:$C$301,E31))
