Workbook

Sheet Como usar
A1: Planilha de honorários e recebimentos — SIJUR (sijur.com.br/planilhas-para-advogados/)
A3: 1. Uma linha por parcela a receber: honorário contratual, mensalidade, êxito, sucumbência, consulta ou reembolso de custas.
A4: 2. Preencha cliente, tipo, valor e vencimento. Quando o dinheiro entrar, preencha a data e o valor pago.
A5: 3. "Situação" e "Dias em atraso" se calculam sozinhos: Pago, Pago em parte, Vencido ou A vencer. Não digite nessas colunas.
A6: 4. A aba "Resumo" soma o que está a receber, o que venceu e não foi pago, e o previsto e o recebido em cada mês do ano escrito na célula B1.
A7: 5. A linha 2 é um exemplo: apague ou sobrescreva.

Sheet Lançamentos
A1: Cliente | B1: Processo (CNJ) | C1: Tipo | D1: Descrição | E1: Valor | F1: Vencimento | G1: Data do pagamento | H1: Valor pago | I1: Forma de pagamento | J1: Situação | K1: Dias em atraso | L1: Observação
A2: Cliente de exemplo | B2: 5001234-93.2025.8.21.0001 | C2: Contratual (parcela) | D2: Parcela 1 de 6 | E2: 1500 | F2: 46305 | I2: Pix | J2: =IF(E2="","",IF(AND(H2<>"",H2>=E2),"Pago",IF(H2<>"","Pago em parte",IF(F2="","Sem vencimento",IF(F2<TODAY(),"Vencido","A vencer"))))) | K2: =IF(J2="Vencido",TODAY()-F2,IF(AND(J2="Pago em parte",F2<>"",F2<TODAY()),TODAY()-F2,""))
J3: =IF(E3="","",IF(AND(H3<>"",H3>=E3),"Pago",IF(H3<>"","Pago em parte",IF(F3="","Sem vencimento",IF(F3<TODAY(),"Vencido","A vencer"))))) | K3: =IF(J3="Vencido",TODAY()-F3,IF(AND(J3="Pago em parte",F3<>"",F3<TODAY()),TODAY()-F3,""))
J4: =IF(E4="","",IF(AND(H4<>"",H4>=E4),"Pago",IF(H4<>"","Pago em parte",IF(F4="","Sem vencimento",IF(F4<TODAY(),"Vencido","A vencer"))))) | K4: =IF(J4="Vencido",TODAY()-F4,IF(AND(J4="Pago em parte",F4<>"",F4<TODAY()),TODAY()-F4,""))
J5: =IF(E5="","",IF(AND(H5<>"",H5>=E5),"Pago",IF(H5<>"","Pago em parte",IF(F5="","Sem vencimento",IF(F5<TODAY(),"Vencido","A vencer"))))) | K5: =IF(J5="Vencido",TODAY()-F5,IF(AND(J5="Pago em parte",F5<>"",F5<TODAY()),TODAY()-F5,""))
J6: =IF(E6="","",IF(AND(H6<>"",H6>=E6),"Pago",IF(H6<>"","Pago em parte",IF(F6="","Sem vencimento",IF(F6<TODAY(),"Vencido","A vencer"))))) | K6: =IF(J6="Vencido",TODAY()-F6,IF(AND(J6="Pago em parte",F6<>"",F6<TODAY()),TODAY()-F6,""))
J7: =IF(E7="","",IF(AND(H7<>"",H7>=E7),"Pago",IF(H7<>"","Pago em parte",IF(F7="","Sem vencimento",IF(F7<TODAY(),"Vencido","A vencer"))))) | K7: =IF(J7="Vencido",TODAY()-F7,IF(AND(J7="Pago em parte",F7<>"",F7<TODAY()),TODAY()-F7,""))
J8: =IF(E8="","",IF(AND(H8<>"",H8>=E8),"Pago",IF(H8<>"","Pago em parte",IF(F8="","Sem vencimento",IF(F8<TODAY(),"Vencido","A vencer"))))) | K8: =IF(J8="Vencido",TODAY()-F8,IF(AND(J8="Pago em parte",F8<>"",F8<TODAY()),TODAY()-F8,""))
J9: =IF(E9="","",IF(AND(H9<>"",H9>=E9),"Pago",IF(H9<>"","Pago em parte",IF(F9="","Sem vencimento",IF(F9<TODAY(),"Vencido","A vencer"))))) | K9: =IF(J9="Vencido",TODAY()-F9,IF(AND(J9="Pago em parte",F9<>"",F9<TODAY()),TODAY()-F9,""))
J10: =IF(E10="","",IF(AND(H10<>"",H10>=E10),"Pago",IF(H10<>"","Pago em parte",IF(F10="","Sem vencimento",IF(F10<TODAY(),"Vencido","A vencer"))))) | K10: =IF(J10="Vencido",TODAY()-F10,IF(AND(J10="Pago em parte",F10<>"",F10<TODAY()),TODAY()-F10,""))
J11: =IF(E11="","",IF(AND(H11<>"",H11>=E11),"Pago",IF(H11<>"","Pago em parte",IF(F11="","Sem vencimento",IF(F11<TODAY(),"Vencido","A vencer"))))) | K11: =IF(J11="Vencido",TODAY()-F11,IF(AND(J11="Pago em parte",F11<>"",F11<TODAY()),TODAY()-F11,""))
J12: =IF(E12="","",IF(AND(H12<>"",H12>=E12),"Pago",IF(H12<>"","Pago em parte",IF(F12="","Sem vencimento",IF(F12<TODAY(),"Vencido","A vencer"))))) | K12: =IF(J12="Vencido",TODAY()-F12,IF(AND(J12="Pago em parte",F12<>"",F12<TODAY()),TODAY()-F12,""))
J13: =IF(E13="","",IF(AND(H13<>"",H13>=E13),"Pago",IF(H13<>"","Pago em parte",IF(F13="","Sem vencimento",IF(F13<TODAY(),"Vencido","A vencer"))))) | K13: =IF(J13="Vencido",TODAY()-F13,IF(AND(J13="Pago em parte",F13<>"",F13<TODAY()),TODAY()-F13,""))
J14: =IF(E14="","",IF(AND(H14<>"",H14>=E14),"Pago",IF(H14<>"","Pago em parte",IF(F14="","Sem vencimento",IF(F14<TODAY(),"Vencido","A vencer"))))) | K14: =IF(J14="Vencido",TODAY()-F14,IF(AND(J14="Pago em parte",F14<>"",F14<TODAY()),TODAY()-F14,""))
... J301: =IF(E301="","",IF(AND(H301<>"",H301>=E301),"Pago",IF(H301<>"","Pago em parte",IF(F301="","Sem vencimento",IF(F301<TODAY(),"Vencido","A vencer"))))) | K301: =IF(J301="Vencido",TODAY()-F301,IF(AND(J301="Pago em parte",F301<>"",F301<TODAY()),TODAY()-F301,""))

Sheet Resumo
A1: Ano | B1: 2026
A3: A receber (não pago ou pago em parte) | B3: =SUMIFS(Lançamentos!E2:E301,Lançamentos!J2:J301,"<>Pago")-SUMIFS(Lançamentos!H2:H301,Lançamentos!J2:J301,"Pago em parte")
A4: Vencido e não pago | B4: =SUMIFS(Lançamentos!E2:E301,Lançamentos!J2:J301,"Vencido")
A5: Recebido no ano | B5: =SUMIFS(Lançamentos!H2:H301,Lançamentos!G2:G301,">="&DATE(B1,1,1),Lançamentos!G2:G301,"<"&DATE(B1+1,1,1))
A7: Mês | B7: Previsto (vencimento) | C7: Recebido (pagamento)
A8: Janeiro | B8: =SUMIFS(Lançamentos!$E$2:$E$301,Lançamentos!$F$2:$F$301,">="&DATE($B$1,1,1),Lançamentos!$F$2:$F$301,"<"&EDATE(DATE($B$1,1,1),1)) | C8: =SUMIFS(Lançamentos!$H$2:$H$301,Lançamentos!$G$2:$G$301,">="&DATE($B$1,1,1),Lançamentos!$G$2:$G$301,"<"&EDATE(DATE($B$1,1,1),1))
A9: Fevereiro | B9: =SUMIFS(Lançamentos!$E$2:$E$301,Lançamentos!$F$2:$F$301,">="&DATE($B$1,2,1),Lançamentos!$F$2:$F$301,"<"&EDATE(DATE($B$1,2,1),1)) | C9: =SUMIFS(Lançamentos!$H$2:$H$301,Lançamentos!$G$2:$G$301,">="&DATE($B$1,2,1),Lançamentos!$G$2:$G$301,"<"&EDATE(DATE($B$1,2,1),1))
A10: Março | B10: =SUMIFS(Lançamentos!$E$2:$E$301,Lançamentos!$F$2:$F$301,">="&DATE($B$1,3,1),Lançamentos!$F$2:$F$301,"<"&EDATE(DATE($B$1,3,1),1)) | C10: =SUMIFS(Lançamentos!$H$2:$H$301,Lançamentos!$G$2:$G$301,">="&DATE($B$1,3,1),Lançamentos!$G$2:$G$301,"<"&EDATE(DATE($B$1,3,1),1))
A11: Abril | B11: =SUMIFS(Lançamentos!$E$2:$E$301,Lançamentos!$F$2:$F$301,">="&DATE($B$1,4,1),Lançamentos!$F$2:$F$301,"<"&EDATE(DATE($B$1,4,1),1)) | C11: =SUMIFS(Lançamentos!$H$2:$H$301,Lançamentos!$G$2:$G$301,">="&DATE($B$1,4,1),Lançamentos!$G$2:$G$301,"<"&EDATE(DATE($B$1,4,1),1))
A12: Maio | B12: =SUMIFS(Lançamentos!$E$2:$E$301,Lançamentos!$F$2:$F$301,">="&DATE($B$1,5,1),Lançamentos!$F$2:$F$301,"<"&EDATE(DATE($B$1,5,1),1)) | C12: =SUMIFS(Lançamentos!$H$2:$H$301,Lançamentos!$G$2:$G$301,">="&DATE($B$1,5,1),Lançamentos!$G$2:$G$301,"<"&EDATE(DATE($B$1,5,1),1))
A13: Junho | B13: =SUMIFS(Lançamentos!$E$2:$E$301,Lançamentos!$F$2:$F$301,">="&DATE($B$1,6,1),Lançamentos!$F$2:$F$301,"<"&EDATE(DATE($B$1,6,1),1)) | C13: =SUMIFS(Lançamentos!$H$2:$H$301,Lançamentos!$G$2:$G$301,">="&DATE($B$1,6,1),Lançamentos!$G$2:$G$301,"<"&EDATE(DATE($B$1,6,1),1))
A14: Julho | B14: =SUMIFS(Lançamentos!$E$2:$E$301,Lançamentos!$F$2:$F$301,">="&DATE($B$1,7,1),Lançamentos!$F$2:$F$301,"<"&EDATE(DATE($B$1,7,1),1)) | C14: =SUMIFS(Lançamentos!$H$2:$H$301,Lançamentos!$G$2:$G$301,">="&DATE($B$1,7,1),Lançamentos!$G$2:$G$301,"<"&EDATE(DATE($B$1,7,1),1))
A15: Agosto | B15: =SUMIFS(Lançamentos!$E$2:$E$301,Lançamentos!$F$2:$F$301,">="&DATE($B$1,8,1),Lançamentos!$F$2:$F$301,"<"&EDATE(DATE($B$1,8,1),1)) | C15: =SUMIFS(Lançamentos!$H$2:$H$301,Lançamentos!$G$2:$G$301,">="&DATE($B$1,8,1),Lançamentos!$G$2:$G$301,"<"&EDATE(DATE($B$1,8,1),1))
A16: Setembro | B16: =SUMIFS(Lançamentos!$E$2:$E$301,Lançamentos!$F$2:$F$301,">="&DATE($B$1,9,1),Lançamentos!$F$2:$F$301,"<"&EDATE(DATE($B$1,9,1),1)) | C16: =SUMIFS(Lançamentos!$H$2:$H$301,Lançamentos!$G$2:$G$301,">="&DATE($B$1,9,1),Lançamentos!$G$2:$G$301,"<"&EDATE(DATE($B$1,9,1),1))
A17: Outubro | B17: =SUMIFS(Lançamentos!$E$2:$E$301,Lançamentos!$F$2:$F$301,">="&DATE($B$1,10,1),Lançamentos!$F$2:$F$301,"<"&EDATE(DATE($B$1,10,1),1)) | C17: =SUMIFS(Lançamentos!$H$2:$H$301,Lançamentos!$G$2:$G$301,">="&DATE($B$1,10,1),Lançamentos!$G$2:$G$301,"<"&EDATE(DATE($B$1,10,1),1))
A18: Novembro | B18: =SUMIFS(Lançamentos!$E$2:$E$301,Lançamentos!$F$2:$F$301,">="&DATE($B$1,11,1),Lançamentos!$F$2:$F$301,"<"&EDATE(DATE($B$1,11,1),1)) | C18: =SUMIFS(Lançamentos!$H$2:$H$301,Lançamentos!$G$2:$G$301,">="&DATE($B$1,11,1),Lançamentos!$G$2:$G$301,"<"&EDATE(DATE($B$1,11,1),1))
A19: Dezembro | B19: =SUMIFS(Lançamentos!$E$2:$E$301,Lançamentos!$F$2:$F$301,">="&DATE($B$1,12,1),Lançamentos!$F$2:$F$301,"<"&EDATE(DATE($B$1,12,1),1)) | C19: =SUMIFS(Lançamentos!$H$2:$H$301,Lançamentos!$G$2:$G$301,">="&DATE($B$1,12,1),Lançamentos!$G$2:$G$301,"<"&EDATE(DATE($B$1,12,1),1))
